BEGIN:VCALENDAR
VERSION:2.0
PRODID:-//hacksw/handcal//NONSGML v1.0//EN
BEGIN:VEVENT
SUMMARY:Ouverture du terrain: prenez les commandes d’un avion… radiocommande !
UID:fdf2456b-f5ad-4127-9a63-104317375f2d
DTSTART:20260426T090000Z
DTEND:20260426T160000Z
LOCATION:Localisation   
CATEGORIES:Manifestation
STATUS:
DESCRIPTION:<p><span style="font-size:11pt;"><span><span
 style="font-family:Calibri, sans-serif;"><b><span
 style="font-size:12pt;"><span style="font-family:'Times New Roman',
 serif;">Cernay : prenez les commandes d’un avion… radiocommande
 !</span></span></b></span></span></span></p>
 
 <p><span
 style="font-size:11pt;"><span><span style="font-family:Calibri,
 sans-serif;"><span style="font-size:12pt;"><span
 style="font-family:'Times New Roman', serif;">Et si vous deveniez
 pilote le temps d’un apres-midi ? Le dimanche 26 avril,
 l’Aeroclub de l’Ochsenfeld a Cernay met l’accent sur la
 decouverte active avec une grande operation d’initiation au
 pilotage d’avions radiocommandes, ouverte a
 tous.</span></span></span></span></span></p>
 
 <p><span
 style="font-size:11pt;"><span><span style="font-family:Calibri,
 sans-serif;"><span style="font-size:12pt;"><span
 style="font-family:'Times New Roman', serif;">De 14h a 18h, le
 terrain situe chemin de l’aerodrome se transformera en veritable
 ecole de pilotage en plein air. Ici, pas question d’etre simple
 spectateur : le public est invite a passer derriere les manches pour
 vivre une experience concrete et
 encadree.</span></span></span></span></span></p>
 
 <p><span
 style="font-size:11pt;"><span><span style="font-family:Calibri,
 sans-serif;"><b><span style="font-size:12pt;"><span
 style="font-family:'Times New Roman', serif;">Une initiation
 accessible a
 tous</span></span></b></span></span></span></p>
 
 <p><span
 style="font-size:11pt;"><span><span style="font-family:Calibri,
 sans-serif;"><span style="font-size:12pt;"><span
 style="font-family:'Times New Roman', serif;">Que l’on soit
 totalement novice ou simplement curieux, jeune ou plus age, chacun
 pourra s’essayer au pilotage grace a un dispositif securise et
 pedagogique. Les instructeurs du club accompagneront les participants
 en double commande, permettant de prendre progressivement le controle
 de l’appareil sans
 risque.</span></span></span></span></span></p>
 
 <p><span
 style="font-size:11pt;"><span><span style="font-family:Calibri,
 sans-serif;"><span style="font-size:12pt;"><span
 style="font-family:'Times New Roman', serif;">« L’objectif est
 vraiment de faire decouvrir les sensations de pilotage », expliquent
 les membres du club. « On commence par quelques bases, puis tres
 vite, les participants peuvent essayer de faire evoluer l’avion
 eux-memes. »</span></span></span></span></span></p>
 
 <p><span
 style="font-size:11pt;"><span><span style="font-family:Calibri,
 sans-serif;"><span style="font-size:12pt;"><span
 style="font-family:'Times New Roman', serif;">Cette immersion permet
 de comprendre les subtilites du vol : gestion des trajectoires,
 anticipation, coordination… autant de competences qui rendent
 l’experience a la fois ludique et
 captivante.</span></span></span></span></span></p>
 
 <p><span
 style="font-size:11pt;"><span><span style="font-family:Calibri,
 sans-serif;"><b><span style="font-size:12pt;"><span
 style="font-family:'Times New Roman', serif;">Une passion a portee de
 main</span></span></b></span></span></span></p>
 
 <p><span
 style="font-size:11pt;"><span><span style="font-family:Calibri,
 sans-serif;"><span style="font-size:12pt;"><span
 style="font-family:'Times New Roman', serif;">Loin d’etre reservee
 a une elite, la pratique de l’aeromodelisme est aujourd’hui
 accessible a tous les ages. Cette journee est l’occasion ideale de
 lever les idees recues et de montrer qu’il est possible de debuter
 facilement, avec l’accompagnement d’un
 club.</span></span></span></span></span></p>
 
 <p><span
 style="font-size:11pt;"><span><span style="font-family:Calibri,
 sans-serif;"><span style="font-size:12pt;"><span
 style="font-family:'Times New Roman', serif;">Les visiteurs pourront
 egalement decouvrir les differents types de modeles utilises, du
 petit avion ecole aux machines plus performantes, et echanger avec
 des passionnes toujours prets a partager conseils et
 anecdotes.</span></span></span></span></span></p>
 
 <p><span
 style="font-size:11pt;"><span><span style="font-family:Calibri,
 sans-serif;"><b><span style="font-size:12pt;"><span
 style="font-family:'Times New Roman', serif;">Une ambiance
 conviviale</span></span></b></span></span></span></p>
 
 <p><span
 style="font-size:11pt;"><span><span style="font-family:Calibri,
 sans-serif;"><span style="font-size:12pt;"><span
 style="font-family:'Times New Roman', serif;">Au-dela de l’aspect
 technique, c’est aussi l’esprit club qui sera mis en avant :
 accueil chaleureux, echanges entre passionnes et moments de
 convivialite.</span></span></span></span></span></p>
 
 <p><span
 style="font-size:11pt;"><span><span style="font-family:Calibri,
 sans-serif;"><b><span style="font-size:12pt;"><span
 style="font-family:'Times New Roman', serif;">Infos pratiques
 :</span></span></b><br>
 <span style="font-size:12pt;"><span
 style="font-family:'Times New Roman', serif;">Dimanche 26 avril, de
 14h a 18h<br>
 Aeroclub de l’Ochsenfeld – chemin de l’aerodrome
 a Cernay<br>
 Entree libre – initiations
 gratuites</span></span></span></span></span></p>
 
 <p><span
 style="font-size:11pt;"><span><span style="font-family:Calibri,
 sans-serif;"><span style="font-size:12pt;"><span
 style="font-family:'Times New Roman', serif;">Une occasion rare de
 passer de spectateur a pilote… et peut-etre de decouvrir une
 nouvelle passion. </span></span></span></span></span><span
 style="font-size:11pt;"><span><span style="font-family:Calibri,
 sans-serif;"><span style="font-size:12pt;"><span
 style="font-family:'Times New Roman', serif;">Les jeunes interesses (
 a partir de 12 ans) pourront se renseigner en vue d'une inscription a
 l'ecole de pilotage avec des cours le mercredi apres-midi de 14h a
 17h.</span></span></span></span></span></p>
URL;VALUE=URI:https://www.aero-ochsenfeld.fr/evenements/2026/04/26/ouverture-du-terrain-prenez-les-commandes-dun-avion-radiocommande-2395396
END:VEVENT
END:VCALENDAR
