BEGIN:VCALENDAR
VERSION:2.0
PRODID:-//hacksw/handcal//NONSGML v1.0//EN
BEGIN:VEVENT
SUMMARY:Les doudous prets a decoller a l’Ochsenfeld
UID:d50e6bd0-b906-43af-b99d-ee60131d573d
DTSTART:20260628T120000Z
DTEND:20260628T160000Z
LOCATION:Localisation   
CATEGORIES:Manifestation
STATUS:
DESCRIPTION:<p><span style="font-size:11pt;"><span><span
 style="font-family:Calibri, sans-serif;"><b><span
 style="font-size:14pt;"><span>Les doudous prets a decoller a
 l’Ochsenfeld</span></span></b></span></span></span></p>
 
 <p><span
 style="font-size:11pt;"><span><span style="font-family:Calibri,
 sans-serif;">Le bapteme de l’air des doudous fera son grand retour
 dimanche 28 juin a l’aero-club de l’Ochsenfeld. Une animation
 familiale et insolite qui promet, une nouvelle fois, de faire briller
 les yeux des plus jeunes.</span></span></span></p>
 
 <p><span
 style="font-size:11pt;"><span><span style="font-family:Calibri,
 sans-serif;">Le principe n’a pas change et continue de seduire : le
 temps de quelques minutes, les peluches prennent place a bord
 d’avions radiocommandes pour un veritable vol au-dessus du terrain.
 Une experience unique que les enfants suivent depuis le sol, entre
 excitation et emerveillement, une immersion ludique et
 rassurante</span></span></span></p>
 
 <p><span
 style="font-size:11pt;"><span><span style="font-family:Calibri,
 sans-serif;">Des leur arrivee, les jeunes participants seront
 accueillis comme dans un veritable aeroport miniature. Carte
 d’embarquement en main, ils confieront leur doudou aux pilotes du
 club, charges d’assurer un vol en toute
 securite.</span></span></span></p>
 
 <p><span
 style="font-size:11pt;"><span><span style="font-family:Calibri,
 sans-serif;">« L’idee, c’est de faire rever les enfants tout en
 les rassurant. Le doudou, c’est un repere important, donc on prend
 le temps d’expliquer chaque etape », souligne un membre de
 l’organisation.</span></span></span></p>
 
 <p><span
 style="font-size:11pt;"><span><span style="font-family:Calibri,
 sans-serif;">Les vols, courts mais intenses, s’enchaineront tout au
 long de l’apres-midi, permettant a de nombreux doudous de vivre
 leur premier bapteme de l’air.</span></span></span></p>
 
 <p><span
 style="font-size:11pt;"><span><span style="font-family:Calibri,
 sans-serif;"><b>Un souvenir pour la
 vie</b></span></span></span></p>
 
 <p><span
 style="font-size:11pt;"><span><span style="font-family:Calibri,
 sans-serif;">A l’atterrissage, place aux retrouvailles. Chaque
 peluche retrouvera son proprietaire, souvent accueillie avec un
 melange de soulagement et de fierte. En souvenir, un certificat de
 vol personnalise sera remis a chaque
 enfant.</span></span></span></p>
 
 <p><span
 style="font-size:11pt;"><span><span style="font-family:Calibri,
 sans-serif;"><b>Decouvrir l’aeromodelisme
 autrement</b></span></span></span></p>
 
 <p><span
 style="font-size:11pt;"><span><span style="font-family:Calibri,
 sans-serif;">Au-dela de l’animation, cette journee est aussi
 l’occasion pour le public de decouvrir l’aeromodelisme. Les
 membres du club seront presents pour echanger avec les visiteurs et
 presenter leurs modeles reduits.</span></span></span></p>
 
 <p><span
 style="font-size:11pt;"><span><span style="font-family:Calibri,
 sans-serif;">Un moment convivial, accessible a tous, qui attire
 chaque annee de nombreuses
 familles.</span></span></span></p>
 
 <p><span
 style="font-size:11pt;"><span><span style="font-family:Calibri,
 sans-serif;"><b>Infos
 pratiques</b></span></span></span></p>
 
 <p><span
 style="font-size:11pt;"><span><span style="font-family:Calibri,
 sans-serif;">Le bapteme de l’air des doudous se tiendra dimanche 28
 juin 2026, sur le terrain de l’aero-club de l’Ochsenfeld chemin
 de l’aerodrome a Cernay, de 14h a 18h
 .</span></span></span></p>
 
 <p><span
 style="font-size:11pt;"><span><span style="font-family:Calibri,
 sans-serif;">Animation gratuite ouverte a tous les enfants,
 accompagnes de leurs parents.</span></span></span></p>
 
 <p><span
 style="font-size:11pt;"><span><span style="font-family:Calibri,
 sans-serif;">Il est conseille d’apporter un doudou de taille
 adaptee pour le vol.</span></span></span></p>
URL;VALUE=URI:https://www.aero-ochsenfeld.fr/evenements/2026/06/28/les-doudous-prets-a-decoller-a-lochsenfeld-2395418
END:VEVENT
END:VCALENDAR
